BEGIN:VCALENDAR
VERSION:2.0
PRODID:-//wp-events-plugin.com//7.2.3.1//EN
TZID:Europe/Berlin
X-WR-TIMEZONE:Europe/Berlin
BEGIN:VEVENT
UID:1@piraten-leipzig.de
DTSTART;TZID=Europe/Berlin:20140125T093000
DTEND;TZID=Europe/Berlin:20140126T180000
DTSTAMP:20141208T103138Z
URL:https://piraten-leipzig.de/events/lpt2014-1/
SUMMARY:LPT2014.1 und AV
DESCRIPTION:Aufstellungsversammlung zur Landtagswahl 2014 und 1. Landespart
 eitag 2014 der Piratenpartei Sachsen
LOCATION:Gasthof Roter Hirsch\, Am Anger 1\, Claußnitz\, 09236\, Deutschla
 nd
GEO:50.9361;12.883559999999989
X-APPLE-STRUCTURED-LOCATION;VALUE=URI;X-ADDRESS=Am Anger 1\, Claußnitz\, 0
 9236\, Deutschland;X-APPLE-RADIUS=100;X-TITLE=Gasthof Roter Hirsch:geo:50.
 9361,12.883559999999989
END:VEVENT
BEGIN:VTIMEZONE
TZID:Europe/Berlin
X-LIC-LOCATION:Europe/Berlin
BEGIN:STANDARD
DTSTART:20131027T020000
TZOFFSETFROM:+0200
TZOFFSETTO:+0100
TZNAME:CET
END:STANDARD
END:VTIMEZONE
END:VCALENDAR