BEGIN:VCALENDAR
VERSION:2.0
PRODID:-//wp-events-plugin.com//7.2.3.1//EN
TZID:Europe/Berlin
X-WR-TIMEZONE:Europe/Berlin
BEGIN:VEVENT
UID:331@piraten-leipzig.de
DTSTART;TZID=Europe/Berlin:20271109T190000
DTEND;TZID=Europe/Berlin:20271109T200000
DTSTAMP:20250208T152917Z
URL:https://piraten-leipzig.de/events/vorstandssitzung-2027-11-09/
SUMMARY:Vorstandssitzung
DESCRIPTION:Die Vorstandssitzungen finden virtuell im BBB statt\, sofern ni
 cht vorher anders bekanntgegeben.
CATEGORIES:Vorstand
LOCATION:https://bbb.piratensommer.de/b/tho-wcc-9mq
END:VEVENT
BEGIN:VTIMEZONE
TZID:Europe/Berlin
X-LIC-LOCATION:Europe/Berlin
BEGIN:STANDARD
DTSTART:20271031T020000
TZOFFSETFROM:+0200
TZOFFSETTO:+0100
TZNAME:CET
END:STANDARD
END:VTIMEZONE
END:VCALENDAR